Workbook

Sheet Spildur
A1: Farið í Jörð og sækið Excelskrá í túnspildulistann
A2: Takið þrjá fremstu dálkana þaðan og límið inn hér fyrir neðan í reit A10
A3: Ef spildurnar eru fleiri en 56 þarf að setja spildurnar inn í tvennu lagi
B5: 2026
A6: Nafn bónda | B6: Ólafur
A7: Bær | B7: Hagi
A8: Búsnr. | B8: 9999991
A10: Landnúmer | B10: Auðkenni | C10: Stærð
A11: 999999 | B11: 1 | C11: 0.4
A12: 999999 | B12: 1 | C12: 0.3
A13: 999999 | B13: 2 | C13: 1.7
A14: 999999 | B14: 3 | C14: 0.8
A15: 999999 | B15: 4 | C15: 1.5
A16: 999999 | B16: 5 | C16: 1.6
A17: 999999 | B17: 6 | C17: 0.9
A18: 999999 | B18: 7 | C18: 0.8
A19: 999999 | B19: 8 | C19: 0.8
A20: 999999 | B20: 9 | C20: 0.8
A21: 999999 | B21: 10 | C21: 0.6
A22: 999999 | B22: 11 | C22: 4.3
... A25: 999999 | B25: 14 | C25: 0.7
A26: 999999 | B26: 15 - a | C26: 4.2
A27: 999999 | B27: 15 - b | C27: 0.9
A28: 999999 | B28: 16 | C28: 1.4
A29: 999999 | B29: 17 | C29: 1.8
A30: 999999 | B30: 18 | C30: 3.4
A31: 999999 | B31: 19 | C31: 9.9
A32: 999999 | B32: 20 | C32: 1.4
A33: 999999 | B33: 21 - a | C33: 3.2
A34: 999999 | B34: 21 - b | C34: 1.9
A35: 999999 | B35: 21 - C | C35: 2.6
A36: 999999 | B36: 31 | C36: 1.5
A37: 999999 | B37: 32 | C37: 1.2
A38: 999999 | B38: 33 | C38: 1.2
A39: 999999 | B39: 34 | C39: 2.3
A40: 999999 | B40: 35 | C40: 0.6

Sheet Búfjáráburðarnotkun
A1: ="Búfjáráburður "&Spildur!B5 -> Búfjáráburður 2026
A2: =Spildur!B6 -> Ólafur | D2: Heimilisfang | F2: =Uppskeruskráning!G2 -> Hagi | I2: Búsnr. | J2: =Uppskeruskráning!L2 -> 9999991
A4: Auðkenni spildu númer - nafn | B4: Stærð ha | C4: Dags. | D4: Tegund búfjár- áburðar | E4: Áætlað þe. | F4: Fjöldi ferða | G4: Magn í ferð, tonn | H4: Magn tonn alls | I4: Eða tonn á ha. | J4: Athugasemdir
A5: =IF(Uppskeruskráning!A5>0,Uppskeruskráning!A5," ") -> 1 | B5: =IF(Uppskeruskráning!B5>0,Uppskeruskráning!B5," ") -> 0.4
A6: =IF(Uppskeruskráning!A6>0,Uppskeruskráning!A6," ") -> 1 | B6: =IF(Uppskeruskráning!B6>0,Uppskeruskráning!B6," ") -> 0.3
A7: =IF(Uppskeruskráning!A7>0,Uppskeruskráning!A7," ") -> 2 | B7: =IF(Uppskeruskráning!B7>0,Uppskeruskráning!B7," ") -> 1.7
A8: =IF(Uppskeruskráning!A8>0,Uppskeruskráning!A8," ") -> 3 | B8: =IF(Uppskeruskráning!B8>0,Uppskeruskráning!B8," ") -> 0.8
A9: =IF(Uppskeruskráning!A9>0,Uppskeruskráning!A9," ") -> 4 | B9: =IF(Uppskeruskráning!B9>0,Uppskeruskráning!B9," ") -> 1.5
A10: =IF(Uppskeruskráning!A10>0,Uppskeruskráning!A10," ") -> 5 | B10: =IF(Uppskeruskráning!B10>0,Uppskeruskráning!B10," ") -> 1.6
A11: =IF(Uppskeruskráning!A11>0,Uppskeruskráning!A11," ") -> 6 | B11: =IF(Uppskeruskráning!B11>0,Uppskeruskráning!B11," ") -> 0.9
A12: =IF(Uppskeruskráning!A12>0,Uppskeruskráning!A12," ") -> 7 | B12: =IF(Uppskeruskráning!B12>0,Uppskeruskráning!B12," ") -> 0.8
A13: =IF(Uppskeruskráning!A13>0,Uppskeruskráning!A13," ") -> 8 | B13: =IF(Uppskeruskráning!B13>0,Uppskeruskráning!B13," ") -> 0.8
A14: =IF(Uppskeruskráning!A14>0,Uppskeruskráning!A14," ") -> 9 | B14: =IF(Uppskeruskráning!B14>0,Uppskeruskráning!B14," ") -> 0.8
A15: =IF(Uppskeruskráning!A15>0,Uppskeruskráning!A15," ") -> 10 | B15: =IF(Uppskeruskráning!B15>0,Uppskeruskráning!B15," ") -> 0.6
A16: =IF(Uppskeruskráning!A16>0,Uppskeruskráning!A16," ") -> 11 | B16: =IF(Uppskeruskráning!B16>0,Uppskeruskráning!B16," ") -> 4.3
... A32: =IF(Uppskeruskráning!A32>0,Uppskeruskráning!A32," ") -> 33 | B32: =IF(Uppskeruskráning!B32>0,Uppskeruskráning!B32," ") -> 1.2
A33: ="Búfjáráburður "&Spildur!B5 -> Búfjáráburður 2026 | C33: ="Dreifing frá 1. sept. "&Spildur!B$5-1&" til 31. ágúst "&Spildur!B$5 -> Dreifing frá 1. sept. 2025 til 31. ágúst 2026
A34: =A2 -> Ólafur | D34: Heimilisfang | F34: =Uppskeruskráning!G34 -> Hagi | I34: Búsnr. | J34: =Uppskeruskráning!L34 -> 9999991
A36: Auðkenni spildu númer - nafn | B36: Stærð ha | C36: Dags. | D36: Tegund búfjár- áburðar | E36: Áætlað þe. | F36: Fjöldi ferða | G36: Magn í ferð, tonn | H36: Magn tonn alls | I36: Eða tonn á ha. | J36: Athugasemdir
A37: =IF(Uppskeruskráning!A37>0,Uppskeruskráning!A37," ") -> 34 | B37: =IF(Uppskeruskráning!B37>0,Uppskeruskráning!B37," ") -> 2.3
A38: =IF(Uppskeruskráning!A38>0,Uppskeruskráning!A38," ") -> 35 | B38: =IF(Uppskeruskráning!B38>0,Uppskeruskráning!B38," ") -> 0.6
A39: =IF(Uppskeruskráning!A39>0,Uppskeruskráning!A39," ") | B39: =IF(Uppskeruskráning!B39>0,Uppskeruskráning!B39," ")
A40: =IF(Uppskeruskráning!A40>0,Uppskeruskráning!A40," ") | B40: =IF(Uppskeruskráning!B40>0,Uppskeruskráning!B40," ")
A41: =IF(Uppskeruskráning!A41>0,Uppskeruskráning!A41," ") | B41: =IF(Uppskeruskráning!B41>0,Uppskeruskráning!B41," ")
A42: =IF(Uppskeruskráning!A42>0,Uppskeruskráning!A42," ") | B42: =IF(Uppskeruskráning!B42>0,Uppskeruskráning!B42," ")
A43: =IF(Uppskeruskráning!A43>0,Uppskeruskráning!A43," ") | B43: =IF(Uppskeruskráning!B43>0,Uppskeruskráning!B43," ")
A44: =IF(Uppskeruskráning!A44>0,Uppskeruskráning!A44," ") | B44: =IF(Uppskeruskráning!B44>0,Uppskeruskráning!B44," ")
A45: =IF(Uppskeruskráning!A45>0,Uppskeruskráning!A45," ") | B45: =IF(Uppskeruskráning!B45>0,Uppskeruskráning!B45," ")
A46: =IF(Uppskeruskráning!A46>0,Uppskeruskráning!A46," ") | B46: =IF(Uppskeruskráning!B46>0,Uppskeruskráning!B46," ")
A47: =IF(Uppskeruskráning!A47>0,Uppskeruskráning!A47," ") | B47: =IF(Uppskeruskráning!B47>0,Uppskeruskráning!B47," ")
A48: =IF(Uppskeruskráning!A48>0,Uppskeruskráning!A48," ") | B48: =IF(Uppskeruskráning!B48>0,Uppskeruskráning!B48," ")
... A64: =IF(Uppskeruskráning!A64>0,Uppskeruskráning!A64," ") | B64: =IF(Uppskeruskráning!B64>0,Uppskeruskráning!B64," ")

Sheet Áburðargjöf
A1: ="Áburðargjöf "&Spildur!B$5 -> Áburðargjöf 2026
A3: =Spildur!B6 -> Ólafur | D3: Heimilisfang | E3: =Uppskeruskráning!G2 -> Hagi | H3: Búsnr. | I3: =Uppskeruskráning!L2 -> 9999991
A5: Auðkenni spildu númer - nafn | B5: Stærð ha | C5: Dagsetn. 1 áb. | D5: Áburðarteg. | E5: Magn borið á kg/spildu | F5: Ökuhraði km/klst. | G5: Dagsetn. 2. áb. | H5: Áburðarteg. | I5: Magn borið á kg/spildu | J5: Athugasemdir s.s. stilling dreifara
A6: =IF(Uppskeruskráning!A5>0,Uppskeruskráning!A5," ") -> 1 | B6: =IF(Uppskeruskráning!B5>0,Uppskeruskráning!B5," ") -> 0.4
A7: =IF(Uppskeruskráning!A6>0,Uppskeruskráning!A6," ") -> 1 | B7: =IF(Uppskeruskráning!B6>0,Uppskeruskráning!B6," ") -> 0.3
A8: =IF(Uppskeruskráning!A7>0,Uppskeruskráning!A7," ") -> 2 | B8: =IF(Uppskeruskráning!B7>0,Uppskeruskráning!B7," ") -> 1.7
A9: =IF(Uppskeruskráning!A8>0,Uppskeruskráning!A8," ") -> 3 | B9: =IF(Uppskeruskráning!B8>0,Uppskeruskráning!B8," ") -> 0.8
A10: =IF(Uppskeruskráning!A9>0,Uppskeruskráning!A9," ") -> 4 | B10: =IF(Uppskeruskráning!B9>0,Uppskeruskráning!B9," ") -> 1.5
A11: =IF(Uppskeruskráning!A10>0,Uppskeruskráning!A10," ") -> 5 | B11: =IF(Uppskeruskráning!B10>0,Uppskeruskráning!B10," ") -> 1.6
A12: =IF(Uppskeruskráning!A11>0,Uppskeruskráning!A11," ") -> 6 | B12: =IF(Uppskeruskráning!B11>0,Uppskeruskráning!B11," ") -> 0.9
A13: =IF(Uppskeruskráning!A12>0,Uppskeruskráning!A12," ") -> 7 | B13: =IF(Uppskeruskráning!B12>0,Uppskeruskráning!B12," ") -> 0.8
A14: =IF(Uppskeruskráning!A13>0,Uppskeruskráning!A13," ") -> 8 | B14: =IF(Uppskeruskráning!B13>0,Uppskeruskráning!B13," ") -> 0.8
A15: =IF(Uppskeruskráning!A14>0,Uppskeruskráning!A14," ") -> 9 | B15: =IF(Uppskeruskráning!B14>0,Uppskeruskráning!B14," ") -> 0.8
A16: =IF(Uppskeruskráning!A15>0,Uppskeruskráning!A15," ") -> 10 | B16: =IF(Uppskeruskráning!B15>0,Uppskeruskráning!B15," ") -> 0.6
A17: =IF(Uppskeruskráning!A16>0,Uppskeruskráning!A16," ") -> 11 | B17: =IF(Uppskeruskráning!B16>0,Uppskeruskráning!B16," ") -> 4.3
... A33: =IF(Uppskeruskráning!A32>0,Uppskeruskráning!A32," ") -> 33 | B33: =IF(Uppskeruskráning!B32>0,Uppskeruskráning!B32," ") -> 1.2
A35: =+A1 -> Áburðargjöf 2026
A36: =A3 -> Ólafur | D36: Heimilisfang | E36: =E3 -> Hagi | H36: Búsnr. | I36: =I3 -> 9999991
A38: Auðkenni spildu númer - nafn | B38: Stærð ha | C38: Dagsetn. 1 áb. | D38: Áburðarteg. | E38: Magn borið á kg/spildu | F38: Ökuhraði km/klst. | G38: Dagsetn. 2. áb. | H38: Áburðarteg. | I38: Magn borið á kg/spildu | J38: Athugasemdir s.s. stilling dreifara
A39: =IF(Uppskeruskráning!A37>0,Uppskeruskráning!A37," ") -> 34 | B39: =IF(Uppskeruskráning!B37>0,Uppskeruskráning!B37," ") -> 2.3
A40: =IF(Uppskeruskráning!A38>0,Uppskeruskráning!A38," ") -> 35 | B40: =IF(Uppskeruskráning!B38>0,Uppskeruskráning!B38," ") -> 0.6
A41: =IF(Uppskeruskráning!A39>0,Uppskeruskráning!A39," ") | B41: =IF(Uppskeruskráning!B39>0,Uppskeruskráning!B39," ")
A42: =IF(Uppskeruskráning!A40>0,Uppskeruskráning!A40," ") | B42: =IF(Uppskeruskráning!B40>0,Uppskeruskráning!B40," ")
A43: =IF(Uppskeruskráning!A41>0,Uppskeruskráning!A41," ") | B43: =IF(Uppskeruskráning!B41>0,Uppskeruskráning!B41," ")
A44: =IF(Uppskeruskráning!A42>0,Uppskeruskráning!A42," ") | B44: =IF(Uppskeruskráning!B42>0,Uppskeruskráning!B42," ")
A45: =IF(Uppskeruskráning!A43>0,Uppskeruskráning!A43," ") | B45: =IF(Uppskeruskráning!B43>0,Uppskeruskráning!B43," ")
A46: =IF(Uppskeruskráning!A44>0,Uppskeruskráning!A44," ") | B46: =IF(Uppskeruskráning!B44>0,Uppskeruskráning!B44," ")
A47: =IF(Uppskeruskráning!A45>0,Uppskeruskráning!A45," ") | B47: =IF(Uppskeruskráning!B45>0,Uppskeruskráning!B45," ")
A48: =IF(Uppskeruskráning!A46>0,Uppskeruskráning!A46," ") | B48: =IF(Uppskeruskráning!B46>0,Uppskeruskráning!B46," ")
A49: =IF(Uppskeruskráning!A47>0,Uppskeruskráning!A47," ") | B49: =IF(Uppskeruskráning!B47>0,Uppskeruskráning!B47," ")
A50: =IF(Uppskeruskráning!A48>0,Uppskeruskráning!A48," ") | B50: =IF(Uppskeruskráning!B48>0,Uppskeruskráning!B48," ")
... A66: =IF(Uppskeruskráning!A64>0,Uppskeruskráning!A64," ") | B66: =IF(Uppskeruskráning!B64>0,Uppskeruskráning!B64," ")

Sheet Ræktunarskráning
A1: ="Ræktun "&Spildur!B$5 -> Ræktun 2026
A2: Nafn | B2: =Spildur!B6 -> Ólafur | E2: Heimilisfang | F2: =Spildur!B7 -> Hagi | H2: Búsnr. | I2: =Spildur!B8 -> 9999991
A4: Spilda (númer/nafn) | C4: Stærð í ha | D4: Ræktun | E4: Grasfræblanda | F4: Magn/ha | G4: Tegundir og yrki af grænfóðri, korni og grasi ef ekki er bara sáð grasfræblöndu | H4: Magn/ha | I4: Dags sáningar
A35: ="Ræktun "&Spildur!B$5 -> Ræktun 2026
A36: Nafn | B36: =B2 -> Ólafur | E36: Heimilisfang | F36: =F2 -> Hagi | H36: Búsnr. | I36: =I2 -> 9999991
A38: Spilda (númer/nafn) | C38: Stærð í ha | D38: Ræktun | E38: Grasfræblanda | F38: Magn/ha | G38: Tegundir og yrki af grænfóðri, korni og grasi ef ekki er bara sáð grasfræblöndu | H38: Magn/ha | I38: Dags sáningar

Sheet Uppskeruskráning
A1: ="Uppskera "&Spildur!B$5 -> Uppskera 2026 | L1: 1. sláttur
A2: =Spildur!B6 -> Ólafur | E2: Bæjarheiti | G2: =Spildur!B7 -> Hagi | K2: Búsnr. | L2: =Spildur!B8 -> 9999991
A4: Auðkenni spildu númer - nafn | B4: Stærð ha | C4: Rækt-un | D4: Spilda slegin að hluta, ha | E4: Sláttu-dagur | F4: Hirðingar-dagur | G4: Einingar | H4: Fjöldi eininga | I4: Fóður-gæði | J4: m3 í einingu | K4: Þurrefni í m3 | L4: Annað eða nánari skýringar
A5: =IF(Spildur!B11>0,Spildur!B11," ") -> 1 | B5: =IF(Spildur!C11>0,Spildur!C11," ") -> 0.4
A6: =IF(Spildur!B12>0,Spildur!B12," ") -> 1 | B6: =IF(Spildur!C12>0,Spildur!C12," ") -> 0.3
A7: =IF(Spildur!B13>0,Spildur!B13," ") -> 2 | B7: =IF(Spildur!C13>0,Spildur!C13," ") -> 1.7
A8: =IF(Spildur!B14>0,Spildur!B14," ") -> 3 | B8: =IF(Spildur!C14>0,Spildur!C14," ") -> 0.8
A9: =IF(Spildur!B15>0,Spildur!B15," ") -> 4 | B9: =IF(Spildur!C15>0,Spildur!C15," ") -> 1.5
A10: =IF(Spildur!B16>0,Spildur!B16," ") -> 5 | B10: =IF(Spildur!C16>0,Spildur!C16," ") -> 1.6
A11: =IF(Spildur!B17>0,Spildur!B17," ") -> 6 | B11: =IF(Spildur!C17>0,Spildur!C17," ") -> 0.9
A12: =IF(Spildur!B18>0,Spildur!B18," ") -> 7 | B12: =IF(Spildur!C18>0,Spildur!C18," ") -> 0.8
A13: =IF(Spildur!B19>0,Spildur!B19," ") -> 8 | B13: =IF(Spildur!C19>0,Spildur!C19," ") -> 0.8
A14: =IF(Spildur!B20>0,Spildur!B20," ") -> 9 | B14: =IF(Spildur!C20>0,Spildur!C20," ") -> 0.8
A15: =IF(Spildur!B21>0,Spildur!B21," ") -> 10 | B15: =IF(Spildur!C21>0,Spildur!C21," ") -> 0.6
A16: =IF(Spildur!B22>0,Spildur!B22," ") -> 11 | B16: =IF(Spildur!C22>0,Spildur!C22," ") -> 4.3
... A32: =IF(Spildur!B38>0,Spildur!B38," ") -> 33 | B32: =IF(Spildur!C38>0,Spildur!C38," ") -> 1.2
A33: ="Uppskera "&Spildur!B$5 -> Uppskera 2026 | L33: 1. sláttur
A34: =A2 -> Ólafur | E34: Bæjarheiti | G34: =G2 -> Hagi | K34: Búsnr. | L34: =L2 -> 9999991
A36: Auðkenni spildu númer - nafn | B36: Stærð ha | C36: Rækt-un | D36: Spilda slegin að hluta, ha | E36: Sláttu-dagur | F36: Hirðingar-dagur | G36: Einingar | H36: Fjöldi eininga | I36: Fóður-gæði | J36: m3 í einingu | K36: Þurrefni í m3 | L36: Annað eða nánari skýringar
A37: =IF(Spildur!B39>0,Spildur!B39," ") -> 34 | B37: =IF(Spildur!C39>0,Spildur!C39," ") -> 2.3
A38: =IF(Spildur!B40>0,Spildur!B40," ") -> 35 | B38: =IF(Spildur!C40>0,Spildur!C40," ") -> 0.6
A39: =IF(Spildur!B41>0,Spildur!B41," ") | B39: =IF(Spildur!C41>0,Spildur!C41," ")
A40: =IF(Spildur!B42>0,Spildur!B42," ") | B40: =IF(Spildur!C42>0,Spildur!C42," ")
A41: =IF(Spildur!B43>0,Spildur!B43," ") | B41: =IF(Spildur!C43>0,Spildur!C43," ")
A42: =IF(Spildur!B44>0,Spildur!B44," ") | B42: =IF(Spildur!C44>0,Spildur!C44," ")
A43: =IF(Spildur!B45>0,Spildur!B45," ") | B43: =IF(Spildur!C45>0,Spildur!C45," ")
A44: =IF(Spildur!B46>0,Spildur!B46," ") | B44: =IF(Spildur!C46>0,Spildur!C46," ")
A45: =IF(Spildur!B47>0,Spildur!B47," ") | B45: =IF(Spildur!C47>0,Spildur!C47," ")
A46: =IF(Spildur!B48>0,Spildur!B48," ") | B46: =IF(Spildur!C48>0,Spildur!C48," ")
A47: =IF(Spildur!B49>0,Spildur!B49," ") | B47: =IF(Spildur!C49>0,Spildur!C49," ")
A48: =IF(Spildur!B50>0,Spildur!B50," ") | B48: =IF(Spildur!C50>0,Spildur!C50," ")
... A64: =IF(Spildur!B66>0,Spildur!B66," ") | B64: =IF(Spildur!C66>0,Spildur!C66," ")
A65: ="Uppskera "&Spildur!B$5 -> Uppskera 2026 | L65: 2. sláttur
A66: =A2 -> Ólafur | E66: Bæjarheiti | G66: =G2 -> Hagi | K66: Búsnr. | L66: =L2 -> 9999991
A68: Auðkenni spildu númer - nafn | B68: Stærð ha | C68: Rækt-un | D68: Spilda slegin að hluta, ha | E68: Sláttu-dagur | F68: Hirðingar-dagur | G68: Einingar | H68: Fjöldi eininga | I68: Fóður-gæði | J68: m3 í einingu | K68: Þurrefni í m3 | L68: Annað eða nánari skýringar
A69: =IF(A5>0,A5," ") -> 1 | B69: =IF(B5>0,B5," ") -> 0.4
A70: =IF(A6>0,A6," ") -> 1 | B70: =IF(B6>0,B6," ") -> 0.3
A71: =IF(A7>0,A7," ") -> 2 | B71: =IF(B7>0,B7," ") -> 1.7
A72: =IF(A8>0,A8," ") -> 3 | B72: =IF(B8>0,B8," ") -> 0.8
A73: =IF(A9>0,A9," ") -> 4 | B73: =IF(B9>0,B9," ") -> 1.5
...

Sheet Beitarskráning
A1: ="Beit "&Spildur!B$5 -> Beit 2026
A2: Nafn | B2: =Spildur!B6 -> Ólafur | G2: Heimilisfang | J2: =Spildur!B7 -> Hagi
G3: Búsnr. | J3: =Spildur!B8 -> 9999991
A4: *Ef um er að ræða grænfóður til beitar verður að skrá tilhögun beitar svo ræktun teljist styrkhæf
A5: Ef engin beit átti sér stað á einhverju tímabili sleppið því að skrá beit á það tímabil
C6: Vorbeit | F6: Sumarbeit | I6: Haustbeit | L6: Ef spilda var beitt að hluta skráið stærð beitarhluta (ha)
A7: Spilda (númer/nafn) | C7: Lítil | D7: Meðal | E7: Mikil | F7: Lítil | G7: Meðal | H7: Mikil | I7: Lítil | J7: Meðal | K7: Mikil

Sheet Leiðbeiningar uppskera
B1: Leiðbeiningar um skráningu uppskeru og skýringar lykla
B3: Þessi atriði eru forskráð. Nýjar spildur þarf að skrá inn á blöðin.
B5: Nr. spildu | C5: Númer spildu í Jörð.is og/eða á viðeigandi túnkorti
B6: Nafn spildu | C6: Nafn spildu í Jörð.is og/eða á viðeigandi túnkkorti
B7: Stærð | C7: Stærð spildunnar
B9: Þessi atriði þarf að skrá á blaðið í samræmi við eftirfarandi lykla og tölur
B11: Ræktun | D11: Spilda slegin að hluta
B12: 1 Gras 2 Grænfóður 3 Korn 4 Olíujurtir 5 Iðnaðarjurtir | D12: Ef spilda er ekki slegin nema að hluta þarf að skrá í hekturum, hve stór hluti var sleginn
B18: Sláttudagur | D18: Dagsetning sláttar
B20: Hirðingardagur | D20: Dagsetning hirðingar
B22: Einingar
B23: 1 Rúllur 2 Ferbaggar/Litlir baggar 3 Vothey (Stæða/Turn/Flatgryfja) 4 Sekkir 5 Vagnar 6 Hálmrúllur
B30: Fjöldi eininga | C30: Fjöldi þeirra eininga af spildunni sem uppskeran er metin út frá
B32: Fóðurgæði
B33: A: 0,85 FEm/kg þe. Sáðgresi slegið fyrir skrið. Afurðafóður fyrir mjólkurkýr og ær á sauðburði.
B34: B: 0,80 FEm/kg þe. Sáðgresi slegið um skrið, snemmslegin eldri tún.
B35: C: 0,75 FEm/kg þe. Eldri tún. Miðsvetrarfóður fyrir sauðfé. Fóður fyrir geldkýr og hross í léttri brúkun.
B36: D: 0,70 FEm/kg þe. Síðslægja. Fóður fyrir hross á útigangi.
B38: Rúmmetrar (m3 ) í einingu
B40: Rúllur, mismunandi stærðir
B41: Þvermál, cm | D41: lengd, cm | F41: rúmmál, m3
B42: 120 | D42: 120 | F42: 1.4
B43: 125 | D43: 123 | F43: 1.5
B44: 130 | D44: 120 | F44: 1.6
B45: 140 | D45: 120 | F45: 1.8
B46: 150 | D46: 120 | F46: 2.12
B47: 160 | D47: 120 | F47: 2.4
B48: 160 | D48: 130 | F48: 2.6
B50: Ferbaggar
B51: breidd, cm | C51: hæð, cm | D51: lengd, cm | F51: m3
B52: 80 | C52: 80 | D52: 120 | F52: =+B52*C52*D52/1000000 -> 0.768
B53: 80 | C53: 80 | D53: 160 | F53: =+B53*C53*D53/1000000 -> 1.024
B54: 100 | C54: 80 | D54: 120 | F54: 1
B55: 100 | C55: 80 | D55: 160 | F55: 1.3
B56: 120 | C56: 70 | D56: 140 | F56: =+B56*C56*D56/1000000 -> 1.176
B57: 120 | C57: 70 | D57: 170 | F57: =+B57*C57*D57/1000000 -> 1.428
B58: 120 | C58: 90 | D58: 140 | F58: =+B58*C58*D58/1000000 -> 1.512
B59: 120 | C59: 90 | D59: 170 | F59: =+B59*C59*D59/1000000 -> 1.836
B61: Litlir baggar, þurrhey
B62: (h=36 cm, b=46 cm) | D62: lengd, cm
...

Sheet Uppskera sýnishorn
B1: ="Uppskera "&Spildur!B$5 -> Uppskera 2026 | F1: Hér eru dæmi um það hvernig skráning á uppskeru gæti verið | N1: 1. sláttur
B2: Nafn | C2: Bóndi | G2: Bæjarheiti | I2: Sveitabær | M2: Búsnr. | N2: 9999991
B4: Nr spildu | C4: Nafn spildu | D4: Stærð | E4: Rækt-un | F4: Spilda slegin að hluta, ha | G4: Sláttu- dagur | H4: Hirðingar-dagur | I4: Einingar | J4: Fjöldi eininga | K4: Fóður-gæði | L4: m3 í einingu | M4: Þurrefni í m3 | N4: Annað eða nánari skýringar
B5: 1 | C5: Austan við hús | D5: 1 | E5: 1 | G5: 46193 | H5: 46194 | I5: 1 | J5: 10 | K5: A | L5: 1.9 | M5: 200 | N5: Stórar rúllur
B6: 2 | C6: Við hlöðu | D6: 2 | E6: 1 | G6: 46204 | H6: 46207 | I6: 2 | J6: 25 | K6: B | L6: 1.13 | M6: 240 | N6: Ferbaggar 1,4 m að lengd
B7: 3 | C7: Fjárhúsholt | D7: 6 | E7: 1 | G7: 46230 | H7: 46231 | I7: 3 | J7: 1 | K7: D | L7: 160 | M7: 150 | N7: 160 m3 í stæðu
B8: 4 | C8: Grænfóðurstykkið | D8: 3.1 | E8: 2 | G8: 46250 | H8: 46250 | I8: 1 | J8: 60 | K8: A | L8: 1.5 | M8: 100
B9: 5 | C9: Bakki | D9: 0.8 | E9: 1 | G9: 46213 | H9: 46216 | I9: 2 | J9: 150 | K9: C | L9: 0.17 | M9: 115 | N9: Litlir þurrheysbaggar
B10: 6 | C10: Blautamýri | D10: 4.2 | E10: 1 | F10: 3 | G10: 46223 | H10: 46224 | I10: 1 | J10: 30 | K10: C | L10: 1.5 | M10: 170

Sheet Beit sýnishorn
B1: ="Beit "&Spildur!B5 -> Beit 2026
B2: Nafn | C2: Bóndi | H2: Heimilisfang | K2: =[1]Uppskeruskráning!H2 -> Bær
H3: Búsnr. | K3: 9999991
B4: Ef engin beit átti sér stað á einhverju tímabili sleppið því að skrá beit á það tímabil
D5: Vorbeit | G5: Sumarbeit | J5: Haustbeit | M5: Ef spilda var beitt að hluta skráið stærð beitarhluta (ha)
B6: Spilda (númer/nafn) | D6: Lítil | E6: Meðal | F6: Mikil | G6: Lítil | H6: Meðal | I6: Mikil | J6: Lítil | K6: Meðal | L6: Mikil
B7: 1 - Fjóshóll | D7: x | L7: x
B9: 2 - Langaspilda | I9: x
B11: 3 - Eyri | F11: x | J11: x | M11: 1
B13: 4 - Tangi | L13: x

Sheet Leiðbeiningar ræktun
A2: Grasfræblöndur og stök yrki grastegunda
K3: Spildunr.
A5: Söluaðili | B5: Grasfræblanda | K5: Skráið númerið sem spildan ber á túnkorti eða í jörð.is
A7: Bústólpi | B7: Grasfræblanda 1 - Grasfræblanda 2 - Grasfræblanda 3 - Grasfræblanda Heyfengur | K7: Nafn
B8: Grasfræblanda Sígild - Smáragrasblanda - Blómablanda - Einær rýgresisblanda Protaplus
A9: Fóðurblandan | B9: Sígild - Sígild (forsmituð) - Heyfengur - Beit og Heyfengur - Vallarfoxblanda - Smáragrasblanda (forsmituð) | K9: Skráið nafnið sem spildan ber á túnkorti eða í jörð.is
B10: Landgræðslublanda - Smára dúet (forsmitaður) - Einær rýgresisblanda Protaplus
A11: Lífland | B11: Grasfræblanda K - Finnlandsblanda - Rýgresisblanda LÍF - Fjölgrasablanda LÍF - Smáratún Taða -
B12: Smáratún Slægja - Smáratún Spretta - Smáratún Beit - Ísáningarblanda - Vallarfoxblanda LÍF | K12: Stærð
A13: Landstólpi | B13: Stólpablanda I fyrir kýr - Stólpablanda II fyrir fé og beit, Stólpablanda III -m/Forsmituðum smára
A14: SS | B14: Grasfræblanda SS Alhliða - Grasfræblanda SS Tún - Grasfræblanda SS Rækt - Smári Alhliða | K14: Skráið stærð spildu. Ef ræktaður er hluti túnspildu tilgreinið þá stærð ræktunar og hafið heildarstærð túnspildunnar í sviga.
B15: Smári Vallar - Smári Landgræðsla
A16: Eco-Garden | B16: Uppskera - Beit - Prótein - Ísáning - Noregur I - Noregur II - Viðgerð
K17: Ræktun
A18: Tegund | B18: Yrki
K19: 1 - Gras 2 - Grænfóður 3 - Korn 4 - Olíujurtir 5 - Garðrækt 6 - Iðnaðarjurtir Sé grænfóðri sáð með grasi þarf að skrá tegund og yrki þess eða þeirra ef um fleiri en eina tegund er að ræða.
A20: Vallarfoxgras | B20: Engmo | C20: Grindstad | D20: Hertta | E20: Liljeos | F20: Lidar | G20: Nuutti | H20: Rakel | I20: Rhonia
B21: Rubinia | C21: Snorri | D21: Switch | E21: Tenho | F21: Tuukka | G21: Uula | H21: Vega
A22: Vallarsveifgras | B22: Balin | C22: Baron | D22: Kupol | E22: Opal | F22: Oxford
A23: Hávingull | B23: Baraika | C23: Inkeri | D23: Klaara | E23: Laura | F23: Revansch
A24: Vallarrýgresi | B24: Bartasja | C24: Birger (4n) | D24: Birger (4n) | E24: Calibra | F24: Kentaur (4n) | G24: Mathilde (4n) | H24: Riikka (2n)
A25: Túnvingull | B25: Barustic | C25: Gondolin | D25: Reverent | E25: Rubin
A26: Sauðvingull | B26: Ridu | K26: Grasfræblanda
A27: Selgresi | B27: Tuatra
A28: Strandreyr | B28: Bamse F | C28: Hálmur | D28: Pedja | K28: Hér skal skrá tilbúnar grasfræblöndur. Koma þarf fram hver söluaðili blöndunnar er og nafn hennar.
A29: Rauðsmári | B29: Ares | C29: Torun (4n) | D29: Yngve (2n) | E29: Peggy (4n) | F29: Saija (2n)
A30: Hvítsmári | B30: Edith | C30: Hebe | D30: Undrom
A31: Logasmári | B31: Heusers Ostaat | K31: Magn/ha
A32: Hestabaunir | B32: Sampo
A33: Fóðurmergkál | B33: Bombardier | C33: Grampian | D33: Grüner Angeliter | E33: Keeper | K33: Sáðmagn á ha. Þessi reitur á við um grasfræblöndur.
A34: Fóðurnæpa | B34: Samson
A35: Hafrar | B35: Belinda | C35: Inka | D35: Matty | E35: Nike | F35: Sandy | G35: Symphony | H35: Taika | I35: Scotty | K35: Tegund og yrki
A36: Sumarrýgresi | B36: Attain | C36: Lemnos | D36: Barspectra | E36: Bartigra | F36: Meljump | G36: Swale
A37: Vetrarrepja | B37: Barcoli | C37: Barsica | D37: Diana | E37: Fontan | F37: Hobson | G37: Interval | H37: Licapo | I37: Ringo | K37: Hér skal skrá tegund og yrki.
B38: Unicorn | C38: Akela
A39: Vetrarrúgur | B39: Reetta | K39: Magn/ha
A40: Vetrarrýgresi | B40: Barmultra | C40: Dasas (2n) | D40: Danergo (4n) | E40: Melduo | F40: Meroa (4n) | G40: Melina | H40: Nana | I40: Turgo (4n)
A41: Grænf.blanda | B41: Protaplus (rýgresi og smári)
A42: Fóðurbeðja | B42: Blizzard | K42: Sáðmagn á ha. Skráið sáðmagn af hverri tegund/yrki fyrir sig.
A43: Ertur | B43: Bagoo | C43: Ingrid | D43: Matilda
...

Sheet Ræktun sýnishorn
B1: ="Ræktun " &Spildur!B5 -> Ræktun 2026 | F1: Hér eru dæmi um það hvernig skráning á ræktun gæti verið
B2: Nafn | C2: Bóndi | F2: Heimilisfang | G2: Sveitabær | I2: Búsnr. | J2: 9999991
B4: Spilda (númer/nafn) | D4: Stærð í ha | E4: Ræktun | F4: Grasfræblanda | G4: Magn/ha | H4: Tegundir og yrki af grænfóðri, korni og grasi ef ekki er bara sáð grasfræblöndu | I4: Magn/ha | J4: Dags sáningar
B5: 9 Heimatún | D5: 1.5 | E5: 1 | F5: Grasfræblanda úr lista | G5: 25 | J5: 46179
B11: 10 Fjósbletturinn | D11: 0,5 (1,5) | E11: 2 | H11: Vetrarrepja, Hobson | I11: 12 | J11: 46177
B17: 11 Fjárhúsholt | D17: 3.2 | E17: 1 | H17: Vallarfoxgras, Snorri | I17: 8 | J17: 46157
H18: Vallarfoxgras, Rakel | I18: 10
H19: Vallarrýgresi, Birger | I19: 7
B23: 12 Garður | D23: 2.5 | E23: 3 | H23: Bygg, Kría | I23: 200 | J23: 46147
